BEGIN:VCALENDAR
VERSION:2.0
PRODID:-//Downtown Fond du Lac Partnership - ECPv6.15.18//NONSGML v1.0//EN
CALSCALE:GREGORIAN
METHOD:PUBLISH
X-ORIGINAL-URL:https://downtownfdl.com
X-WR-CALDESC:Events for Downtown Fond du Lac Partnership
REFRESH-INTERVAL;VALUE=DURATION:PT1H
X-Robots-Tag:noindex
X-PUBLISHED-TTL:PT1H
BEGIN:VTIMEZONE
TZID:America/Chicago
BEGIN:DAYLIGHT
TZOFFSETFROM:-0600
TZOFFSETTO:-0500
TZNAME:CDT
DTSTART:20240310T080000
END:DAYLIGHT
BEGIN:STANDARD
TZOFFSETFROM:-0500
TZOFFSETTO:-0600
TZNAME:CST
DTSTART:20241103T070000
END:STANDARD
BEGIN:DAYLIGHT
TZOFFSETFROM:-0600
TZOFFSETTO:-0500
TZNAME:CDT
DTSTART:20250309T080000
END:DAYLIGHT
BEGIN:STANDARD
TZOFFSETFROM:-0500
TZOFFSETTO:-0600
TZNAME:CST
DTSTART:20251102T070000
END:STANDARD
BEGIN:DAYLIGHT
TZOFFSETFROM:-0600
TZOFFSETTO:-0500
TZNAME:CDT
DTSTART:20260308T080000
END:DAYLIGHT
BEGIN:STANDARD
TZOFFSETFROM:-0500
TZOFFSETTO:-0600
TZNAME:CST
DTSTART:20261101T070000
END:STANDARD
END:VTIMEZONE
BEGIN:VEVENT
DTSTART;TZID=America/Chicago:20250306T080000
DTEND;TZID=America/Chicago:20250306T090000
DTSTAMP:20260422T062443
CREATED:20250121T204048Z
LAST-MODIFIED:20250203T174738Z
UID:10000551-1741248000-1741251600@downtownfdl.com
SUMMARY:2025 DFP Annual Meeting - "State of the Downtown"
DESCRIPTION:The Downtown Fond du Lac Partnership Annual Meeting will be held on Thursday\, March 6\, 2025 at Thelma Sadoff Center for the Arts beginning at 8:00 a.m. \nPlease join us for a review of 2024 and what we will be up to in 2025. \n2024 Award Presentations: \n\nVolunteer of the Year\nRenovation of the Year\nFriend of Downtown\nDowntown New Business Award\nDowntown Legacy Award\n\nPlease send RSVP’s to Amy Krupp by March 3\, 2025 at\, amy@downtownfdl.com. \n 
URL:https://downtownfdl.com/event/2025-dfp-annual-meeting-state-of-the-downtown/
LOCATION:Thelma Sadoff Center for the Arts\, 51 Sheboygan\, Fond du Lac\, WI
ATTACH;FMTTYPE=image/png:https://downtownfdl.com/wp-content/uploads/2025/01/2025-Annual-Meeting-Invitation-FINAL.png
ORGANIZER;CN="Downtown Fond du Lac Partnership":MAILTO:info@downtownfdl.com
END:VEVENT
END:VCALENDAR